BEGIN:VCALENDAR
VERSION:2.0
PRODID:-//wp-events-plugin.com//7.2.3.1//EN
TZID:Europe/Paris
X-WR-TIMEZONE:Europe/Paris
BEGIN:VEVENT
UID:1@protestants-hagondange-maizieres.fr
DTSTART;TZID=Europe/Paris:20260301T100000
DTEND;TZID=Europe/Paris:20260301T110000
DTSTAMP:20260218T231630Z
URL:https://protestants-hagondange-maizieres.fr/events/culte-avec-sainte-c
 ene/
SUMMARY:Culte avec sainte cène
DESCRIPTION:Chaque premier dimanche a lieu à Hagondange un culte avec Sain
 te Cène. Tous et toutes sont invités à participer au repas du Seigneur.
ATTACH;FMTTYPE=image/jpeg:https://i0.wp.com/protestants-hagondange-maizier
 es.fr/wp-content/uploads/2023/10/Sainte-cene.jpg?fit=800%2C532&ssl=1
CATEGORIES:Cultes
LOCATION:Hagondange\, 1 avenue de France\, Hagondange\, 57300\, France
X-APPLE-STRUCTURED-LOCATION;VALUE=URI;X-ADDRESS=1 avenue de France\, Hagond
 ange\, 57300\, France;X-APPLE-RADIUS=100;X-TITLE=Hagondange:geo:0,0
END:VEVENT
BEGIN:VTIMEZONE
TZID:Europe/Paris
X-LIC-LOCATION:Europe/Paris
BEGIN:STANDARD
DTSTART:20251026T020000
TZOFFSETFROM:+0200
TZOFFSETTO:+0100
TZNAME:CET
END:STANDARD
END:VTIMEZONE
END:VCALENDAR